BEGIN:VCALENDAR
VERSION:2.0
PRODID:-//Howl at the Moon Gems - ECPv6.15.20//NONSGML v1.0//EN
CALSCALE:GREGORIAN
METHOD:PUBLISH
X-ORIGINAL-URL:https://howlatthemoongems.com
X-WR-CALDESC:Events for Howl at the Moon Gems
REFRESH-INTERVAL;VALUE=DURATION:PT1H
X-Robots-Tag:noindex
X-PUBLISHED-TTL:PT1H
BEGIN:VTIMEZONE
TZID:America/Chicago
BEGIN:DAYLIGHT
TZOFFSETFROM:-0600
TZOFFSETTO:-0500
TZNAME:CDT
DTSTART:20250309T080000
END:DAYLIGHT
BEGIN:STANDARD
TZOFFSETFROM:-0500
TZOFFSETTO:-0600
TZNAME:CST
DTSTART:20251102T070000
END:STANDARD
BEGIN:DAYLIGHT
TZOFFSETFROM:-0600
TZOFFSETTO:-0500
TZNAME:CDT
DTSTART:20260308T080000
END:DAYLIGHT
BEGIN:STANDARD
TZOFFSETFROM:-0500
TZOFFSETTO:-0600
TZNAME:CST
DTSTART:20261101T070000
END:STANDARD
BEGIN:DAYLIGHT
TZOFFSETFROM:-0600
TZOFFSETTO:-0500
TZNAME:CDT
DTSTART:20270314T080000
END:DAYLIGHT
BEGIN:STANDARD
TZOFFSETFROM:-0500
TZOFFSETTO:-0600
TZNAME:CST
DTSTART:20271107T070000
END:STANDARD
END:VTIMEZONE
BEGIN:VEVENT
DTSTART;TZID=America/Chicago:20260423T180000
DTEND;TZID=America/Chicago:20260423T200000
DTSTAMP:20260423T071955
CREATED:20251208T204934Z
LAST-MODIFIED:20251208T211339Z
UID:14877-1776967200-1776974400@howlatthemoongems.com
SUMMARY:Introduction to Lenormand - Part 1
DESCRIPTION:Introduction to Lenormand\nClass Dates: Two Part Class on Thursdays\nApril 23 & June 4th • 6 to 8 pm\nClass Limit of 8 – Course Cost: $75\nCLICK THIS LINK TO SIGN UP–>\nThe Lenormand is another divination tool with a similar history (and purpose) to that of the Tarot. It is a 200 year old system that originated in Western Europe. It is a deck of 36 cards that has held its place in the living rooms and salons of France and Germany for several generations. \nMade of simple\, straightforward imagery\, the cards themselves deal with more tangible issues rather than psychological ones. Each Lenormand card depicts an object from everyday life\, such as a clover\, birds\, an anchor\, a garden\, etc. \nJoin me\, as we explore each of the cards and learn about the importance of card combinations in the Lenormand in this two night class. \nRequired: A Lenormand deck of your choice. A free workbook will be included. \n*This will be a live\, virtual class hosted via Zoom. Please go ahead and download the Zoom desktop/mobile app ahead of time at Zoom.us/download. \nInstructor: Teal has been reading Tarot for over 30 years and is regularly on our schedule at the store. She uses divination\, intuition\, and personal growth tools to help you work toward your goals and to know yourself better. Her goal is to help people heal and grow\, gain control over their life\, and begin (or continue) their own journey to joy. Teal has been studying divination for over 35 years and has been a Wiccan High Priestess for over 30 years.
URL:https://howlatthemoongems.com/event/introduction-to-lenormand-part-1-04-23-2026/
LOCATION:Remote/Virtual/Online Event
CATEGORIES:Classes
ATTACH;FMTTYPE=image/jpeg:https://howlatthemoongems.com/wp-content/uploads/2025/12/Lenormand-Intro-Class-Calendar.jpg
ORGANIZER;CN="Howl at the Moon Gems":MAILTO:orders@howlatthemoongems.com
END:VEVENT
BEGIN:VEVENT
DTSTART;TZID=America/Chicago:20260424T110000
DTEND;TZID=America/Chicago:20260424T170000
DTSTAMP:20260423T071955
CREATED:20260323T203034Z
LAST-MODIFIED:20260323T203034Z
UID:15467-1777028400-1777050000@howlatthemoongems.com
SUMMARY:Readings with Amber
DESCRIPTION:Intuitive Tarot & Oracle Readings with Amber\nFriday\, April 24th\, 2026\n11am to 5pm\nAmber is an intuitive tarot and oracle reader who blends divination with practical spiritual tools to help you move forward with clarity and confidence. Her sessions are heart-centered\, grounded\, and deeply supportive—offering insight into love\, career\, life transitions\, and spiritual growth. \nShe also honors ancestral connection as a source of wisdom and strength. She can offer guidance on building respectful relationships with your lineage\, working with ancestral energy for support\, and understanding generational patterns that may be influencing your path. \nEach session is tailored to you—providing intuitive messages\, practical next steps\, and spiritual encouragement in a safe\, welcoming space. \nCost: $25 / 15 min – $45 / 30 min – $80 / 1 hour \nWhile walk-ins are generally available\, we highly encourage reserving your time by calling the store at 262.325.6294.
URL:https://howlatthemoongems.com/event/readings-with-amber-04-24-2026/
LOCATION:WI
CATEGORIES:Intuitive Readings
ATTACH;FMTTYPE=image/jpeg:https://howlatthemoongems.com/wp-content/uploads/2026/02/Amber-Event.jpg
ORGANIZER;CN="Howl at the Moon Gems":MAILTO:orders@howlatthemoongems.com
END:VEVENT
BEGIN:VEVENT
DTSTART;TZID=America/Chicago:20260425T110000
DTEND;TZID=America/Chicago:20260425T170000
DTSTAMP:20260423T071955
CREATED:20260331T175650Z
LAST-MODIFIED:20260331T175650Z
UID:15501-1777114800-1777136400@howlatthemoongems.com
SUMMARY:Sound Healing with Laurie
DESCRIPTION:Sound Healing with Laurie\nSaturday\, April 25th\nSession Times: 11am\, 12:30pm\, 2pm\, and 3:30pm\nLimit of 4 per 1 hour session\nSecure your spot! Be sure to sign up early with this link! \nJoin Laurie for a guided meditation that flows directly into a relaxing and healing sound bath.\nLet the crystal bowls take you on a journey. \nSound Healing: A sound bath meditation with Laurie combines a meditation along with a variety of healing instruments. \nEach crystal bowl is tuned to a specific chakra\, allowing balancing and harmony to each of your 7 main chakras. \nSound healing offers many benefits including but not limited to reduced stress\, release of blockages and trauma\, relaxation\, improved sleep and so much more!!
URL:https://howlatthemoongems.com/event/sound-healing-with-laurie-04-25-2026/
LOCATION:In-Person Event\, 14 E. Walworth St.\, Elkhorn\, WI\, 53121\, United States
CATEGORIES:Event
ATTACH;FMTTYPE=image/jpeg:https://howlatthemoongems.com/wp-content/uploads/2026/03/Laurie-Sound.jpg
ORGANIZER;CN="Howl at the Moon Gems":MAILTO:orders@howlatthemoongems.com
END:VEVENT
BEGIN:VEVENT
DTSTART;TZID=America/Chicago:20260430T183000
DTEND;TZID=America/Chicago:20260430T203000
DTSTAMP:20260423T071955
CREATED:20240924T204035Z
LAST-MODIFIED:20260202T161654Z
UID:12931-1777573800-1777581000@howlatthemoongems.com
SUMMARY:Introduction to Runes - Part 1
DESCRIPTION:Introduction to Runes – Part 1 \nIntro to Runes Class\nThursdays: April 30th and May 28th\n6pm to 8pm CST\nClass Cost: $75\nClick this link to sign up—>>>\n*This will be a live\, virtual 2 part class hosted via Zoom. Please go ahead and download the Zoom desktop/mobile app ahead of time at Zoom.us/download. \nSince ancient times\, Runes have been used for divination and magic\, in addition to writing. The word “rune” actually means mystery\, secret or whisper. Each Rune has esoteric meanings and properties associated with it\, beyond its mundane meaning. Each Rune has a story attached to it that can bring insight & illumination when used for divination. \nDid you ever want to learn the ancient art of divination with Runes? This class is a 2 part basic introduction to the 24 runes of the Elder Futhark\, an ancient alphabet of the Norse\, plus the 25th rune\, called the Wyrd Rune (or the blank Rune). We will discuss each Rune and learn ways to work with the Runes in a system of divination that works well for beginners. Class includes FREE workbook. \nStudents will leave with practice materials to become better with Runic divination. Find out what the Runes can teach you! \nRequirements: A set of runes\, and a guidebook (preferably Runes for Beginners by Alexandra Chauran) Students can also purchase the guidebook for 10% off at time of class registration (regularly priced at $14.99). \nInstructor: Teal brings 35+ years of experience with divination tools like the Runes & Tarot to this class. She considers herself a life-long student and feels that there is always more to learn. She loves helping people find and follow their own journey to self-discovery.
URL:https://howlatthemoongems.com/event/introduction-to-runes-part-1-2/
LOCATION:Remote/Virtual/Online Event
CATEGORIES:Classes
ATTACH;FMTTYPE=image/jpeg:https://howlatthemoongems.com/wp-content/uploads/2022/04/Intro-to-Runes-800x400-1.jpg
ORGANIZER;CN="Howl at the Moon Gems":MAILTO:orders@howlatthemoongems.com
END:VEVENT
END:VCALENDAR