BEGIN:VCALENDAR
VERSION:2.0
PRODID:-//Howl at the Moon Gems - ECPv6.15.20//NONSGML v1.0//EN
CALSCALE:GREGORIAN
METHOD:PUBLISH
X-WR-CALNAME:Howl at the Moon Gems
X-ORIGINAL-URL:https://howlatthemoongems.com
X-WR-CALDESC:Events for Howl at the Moon Gems
REFRESH-INTERVAL;VALUE=DURATION:PT1H
X-Robots-Tag:noindex
X-PUBLISHED-TTL:PT1H
BEGIN:VTIMEZONE
TZID:America/Chicago
BEGIN:DAYLIGHT
TZOFFSETFROM:-0600
TZOFFSETTO:-0500
TZNAME:CDT
DTSTART:20250309T080000
END:DAYLIGHT
BEGIN:STANDARD
TZOFFSETFROM:-0500
TZOFFSETTO:-0600
TZNAME:CST
DTSTART:20251102T070000
END:STANDARD
BEGIN:DAYLIGHT
TZOFFSETFROM:-0600
TZOFFSETTO:-0500
TZNAME:CDT
DTSTART:20260308T080000
END:DAYLIGHT
BEGIN:STANDARD
TZOFFSETFROM:-0500
TZOFFSETTO:-0600
TZNAME:CST
DTSTART:20261101T070000
END:STANDARD
BEGIN:DAYLIGHT
TZOFFSETFROM:-0600
TZOFFSETTO:-0500
TZNAME:CDT
DTSTART:20270314T080000
END:DAYLIGHT
BEGIN:STANDARD
TZOFFSETFROM:-0500
TZOFFSETTO:-0600
TZNAME:CST
DTSTART:20271107T070000
END:STANDARD
END:VTIMEZONE
BEGIN:VEVENT
DTSTART;TZID=America/Chicago:20260421T183000
DTEND;TZID=America/Chicago:20260421T200000
DTSTAMP:20260423T071513
CREATED:20260331T220916Z
LAST-MODIFIED:20260331T230752Z
UID:15507-1776796200-1776801600@howlatthemoongems.com
SUMMARY:Crafting Magickal Candles with Amber
DESCRIPTION:Crafting Magickal Candles with Amber\nTuesday\, April 21st\, 2026\n6:30 to 8pm\nInstructor: Amber\nIn-Store Class with Limited Seating – 6 spots available\nSign up in-store or online now >>> Click Here \nStep into the glow of intention and discover the art of crafting your own magickal candles in this hands-on\, heart-centered class with Amber. \nIn this 1.5-hour experience\, you’ll be guided through the foundations of candle magick—learning not just how to dress and prepare a candle\, but how to truly infuse it with purpose\, energy\, and meaning. Amber weaves practical knowledge with intuitive practice\, helping you understand how to align your desires with the elements\, herbs\, and energies that support them. \nTogether\, you will explore: \n\nHow to choose the right candle colors for your intention\nThe energetic properties of herbs and how to use them in your work\nTechniques for dressing\, anointing\, and charging your candles\nHow to set clear\, focused intentions that amplify your results\nSimple rituals you can return to again and again\n\nThis is more than a class—it is an invitation to deepen your connection to your own magick and trust in your ability to create meaningful change. \nYour $45 investment includes a take-home kit filled with candles\, herbs\, and other thoughtfully selected tools\, so you can continue your practice long after the flame has been lit in class. \nCome ready to create\, to learn\, and to kindle something powerful within you.
URL:https://howlatthemoongems.com/event/magick-with-candles-04-21-2026/
LOCATION:In-Person Event\, 14 E. Walworth St.\, Elkhorn\, WI\, 53121\, United States
CATEGORIES:Classes
ATTACH;FMTTYPE=image/jpeg:https://howlatthemoongems.com/wp-content/uploads/2026/03/Candle-Magick-Event.jpg
ORGANIZER;CN="Howl at the Moon Gems":MAILTO:orders@howlatthemoongems.com
END:VEVENT
END:VCALENDAR